BEGIN:VCALENDAR
VERSION:2.0
PRODID:-//Corpus Christi&#039;s Directory - ECPv6.15.20//NONSGML v1.0//EN
CALSCALE:GREGORIAN
METHOD:PUBLISH
X-WR-CALNAME:Corpus Christi&#039;s Directory
X-ORIGINAL-URL:https://corpuschristisdirectory.com
X-WR-CALDESC:Events for Corpus Christi&#039;s Directory
REFRESH-INTERVAL;VALUE=DURATION:PT1H
X-Robots-Tag:noindex
X-PUBLISHED-TTL:PT1H
BEGIN:VTIMEZONE
TZID:America/New_York
BEGIN:DAYLIGHT
TZOFFSETFROM:-0500
TZOFFSETTO:-0400
TZNAME:EDT
DTSTART:20240310T070000
END:DAYLIGHT
BEGIN:STANDARD
TZOFFSETFROM:-0400
TZOFFSETTO:-0500
TZNAME:EST
DTSTART:20241103T060000
END:STANDARD
BEGIN:DAYLIGHT
TZOFFSETFROM:-0500
TZOFFSETTO:-0400
TZNAME:EDT
DTSTART:20250309T070000
END:DAYLIGHT
BEGIN:STANDARD
TZOFFSETFROM:-0400
TZOFFSETTO:-0500
TZNAME:EST
DTSTART:20251102T060000
END:STANDARD
BEGIN:DAYLIGHT
TZOFFSETFROM:-0500
TZOFFSETTO:-0400
TZNAME:EDT
DTSTART:20260308T070000
END:DAYLIGHT
BEGIN:STANDARD
TZOFFSETFROM:-0400
TZOFFSETTO:-0500
TZNAME:EST
DTSTART:20261101T060000
END:STANDARD
END:VTIMEZONE
BEGIN:VEVENT
DTSTART;TZID=America/New_York:20250129T080000
DTEND;TZID=America/New_York:20250209T170000
DTSTAMP:20260421T145635
CREATED:20250112T190410Z
LAST-MODIFIED:20250112T231948Z
UID:318664-1738137600-1739120400@corpuschristisdirectory.com
SUMMARY:Customer Appreciation Discount Spring 2025
DESCRIPTION:Enjoy up to 30% off our plumbing repair services as our way of saying “thank you” for your continued support. (Materials not included in the discount.) Don’t miss out! Let us help you keep your home in top shape this season!
URL:https://corpuschristisdirectory.com/event/customer-appreciation-discount-spring-2025/
LOCATION:Prime Plumbing\, NY\, 10005\, United States
CATEGORIES:Community Events,Discounted Repairs,Exclusive Deals
ATTACH;FMTTYPE=image/jpeg:https://corpuschristisdirectory.com/wp-content/uploads/2024/12/defaultevent1.jpg
END:VEVENT
END:VCALENDAR